BEGIN:VCALENDAR
VERSION:2.0
PRODID:-//Calvary Christian Church - ECPv6.6.4.2//NONSGML v1.0//EN
CALSCALE:GREGORIAN
METHOD:PUBLISH
X-WR-CALNAME:Calvary Christian Church
X-ORIGINAL-URL:https://calvarychristian.church
X-WR-CALDESC:Events for Calvary Christian Church
REFRESH-INTERVAL;VALUE=DURATION:PT1H
X-Robots-Tag:noindex
X-PUBLISHED-TTL:PT1H
BEGIN:VTIMEZONE
TZID:America/New_York
BEGIN:DAYLIGHT
TZOFFSETFROM:-0500
TZOFFSETTO:-0400
TZNAME:EDT
DTSTART:20250309T070000
END:DAYLIGHT
BEGIN:STANDARD
TZOFFSETFROM:-0400
TZOFFSETTO:-0500
TZNAME:EST
DTSTART:20251102T060000
END:STANDARD
END:VTIMEZONE
BEGIN:VEVENT
DTSTART;TZID=America/New_York:20250505T183000
DTEND;TZID=America/New_York:20250505T200000
DTSTAMP:20260421T093837
CREATED:20250422T114117Z
LAST-MODIFIED:20250422T114117Z
UID:140151-1746469800-1746475200@calvarychristian.church
SUMMARY:The Power to Change (Men)
DESCRIPTION:Join fellow Men as we read Craig Groeschel’s ‘The Power to Change” \n  \nWe will meet in room 240 starting on May 5th
URL:https://calvarychristian.church/event/the-power-to-change-men/2025-05-05/
LOCATION:Room 240
ATTACH;FMTTYPE=image/jpeg:https://calvarychristian.church/wp-content/uploads/2024/01/933A4976.jpg
ORGANIZER;CN="Ron LeMay":MAILTO:ral8257@gmail.com
END:VEVENT
BEGIN:VEVENT
DTSTART;TZID=America/New_York:20250505T183000
DTEND;TZID=America/New_York:20250505T200000
DTSTAMP:20260421T093837
CREATED:20250423T155323Z
LAST-MODIFIED:20250423T155323Z
UID:140177-1746469800-1746475200@calvarychristian.church
SUMMARY:Men’s Book Study (The Power to Change)
DESCRIPTION:Join a group of men as we walk together through Craig Groeschel’s The Power to Change: mastering the habits that matter most. More books to follow.
URL:https://calvarychristian.church/event/mens-book-study-the-power-to-change/2025-05-05/
ATTACH;FMTTYPE=image/jpeg:https://calvarychristian.church/wp-content/uploads/2024/01/933A4976.jpg
END:VEVENT
BEGIN:VEVENT
DTSTART;TZID=America/New_York:20250510T083000
DTEND;TZID=America/New_York:20250510T100000
DTSTAMP:20260421T093837
CREATED:20250108T200427Z
LAST-MODIFIED:20250108T200427Z
UID:139340-1746865800-1746871200@calvarychristian.church
SUMMARY:Men's Breakfast
DESCRIPTION:Join us for a good food and good fellowship! \nBreakfast is served at 8:30 with a speaker to follow. \nIf you have any questions or would like to speak at one of our breakfast please reach out to Steven Ford.
URL:https://calvarychristian.church/event/mens-breakfast-10/
LOCATION:031 Multipurpose Room (MPR)
CATEGORIES:Men's Ministry
ATTACH;FMTTYPE=image/png:https://calvarychristian.church/wp-content/uploads/2024/08/Mens-Breakfast-800.png
ORGANIZER;CN="Steven Ford":MAILTO:stevef136@gmail.com
END:VEVENT
BEGIN:VEVENT
DTSTART;TZID=America/New_York:20250818T184500
DTEND;TZID=America/New_York:20250818T203000
DTSTAMP:20260421T093837
CREATED:20250818T204421Z
LAST-MODIFIED:20250818T204421Z
UID:140876-1755542700-1755549000@calvarychristian.church
SUMMARY:Men of Valor
DESCRIPTION:Men of Valor is a discipleship journey that equips men to walk with Christ\, lead with integrity\, and serve with courage. In small groups of accountability and support\, men grow in faith\, character\, and leadership—becoming the husbands\, fathers\, and leaders God has called them to be
URL:https://calvarychristian.church/event/men-of-valor-2/2025-08-18/
ATTACH;FMTTYPE=image/jpeg:https://calvarychristian.church/wp-content/uploads/2024/01/933A4976.jpg
END:VEVENT
BEGIN:VEVENT
DTSTART;TZID=America/New_York:20250818T190000
DTEND;TZID=America/New_York:20250818T203000
DTSTAMP:20260421T093837
CREATED:20250818T211406Z
LAST-MODIFIED:20250818T211406Z
UID:140924-1755543600-1755549000@calvarychristian.church
SUMMARY:Woman’s Bible Study
DESCRIPTION:Join us for a weekly Women’s Bible Study where we discover God’s truth\, grow in spiritual disciplines\, and learn to live out our faith. Together\, we’ll explore Scripture\, strengthen our walk with Christ\, and encourage one another to share His love and wisdom with others.
URL:https://calvarychristian.church/event/womans-bible-study/2025-08-18/
ATTACH;FMTTYPE=image/jpeg:https://calvarychristian.church/wp-content/uploads/2024/01/933A4976.jpg
END:VEVENT
BEGIN:VEVENT
DTSTART;TZID=America/New_York:20250818T190000
DTEND;TZID=America/New_York:20250818T203000
DTSTAMP:20260421T093837
CREATED:20250818T214212Z
LAST-MODIFIED:20250818T214212Z
UID:140979-1755543600-1755549000@calvarychristian.church
SUMMARY:The Chosen TV Series (Season 5) Bible Study
DESCRIPTION:This Bible study is for people who need a safe place in Jesus. The Stronghold of the Chosen (season 5) helps readers see Him as the refuge we desperately need\, along with all the reasons we should run to & remain in Him when hard times come. “Link to the workbook: The Stronghold of the Chosen: An Interactive Bible Study\, Season 5\n\nClick here to purchase group material.
URL:https://calvarychristian.church/event/the-chosen-tv-series-season-5-bible-study/2025-08-18/
ATTACH;FMTTYPE=image/jpeg:https://calvarychristian.church/wp-content/uploads/2024/01/933A4976.jpg
END:VEVENT
BEGIN:VEVENT
DTSTART;TZID=America/New_York:20250907T083000
DTEND;TZID=America/New_York:20250907T093000
DTSTAMP:20260421T093837
CREATED:20250818T210835Z
LAST-MODIFIED:20250818T210835Z
UID:140912-1757233800-1757237400@calvarychristian.church
SUMMARY:The Sovereignty of God
DESCRIPTION:Do you ever struggle with why bad things happen in your life? Do you wonder if God is really in control? Do you question where our will comes in?\nJoin us for a study on the sovereignty of God & the process of accepting His lordship in our lives.
URL:https://calvarychristian.church/event/the-sovereignty-of-god/2025-09-07/
ATTACH;FMTTYPE=image/jpeg:https://calvarychristian.church/wp-content/uploads/2024/01/933A4976.jpg
END:VEVENT
BEGIN:VEVENT
DTSTART;TZID=America/New_York:20250909T190000
DTEND;TZID=America/New_York:20250909T203000
DTSTAMP:20260421T093837
CREATED:20250818T212638Z
LAST-MODIFIED:20250818T212638Z
UID:140946-1757444400-1757449800@calvarychristian.church
SUMMARY:McNair Group Study – Revelation
DESCRIPTION:What do you really know about the book of Revelation and the end times? The concluding book of the New Testament can seem a mystery\, complex\, full of unfamiliar imagery and numerous allusions to the rest of the Bible. Yet\, the book is not difficult\, it is actual sensible.
URL:https://calvarychristian.church/event/mcnair-group-study-revelation/2025-09-09/
ATTACH;FMTTYPE=image/jpeg:https://calvarychristian.church/wp-content/uploads/2024/01/933A4976.jpg
END:VEVENT
BEGIN:VEVENT
DTSTART;TZID=America/New_York:20250910T183000
DTEND;TZID=America/New_York:20250910T203000
DTSTAMP:20260421T093837
CREATED:20250818T213148Z
LAST-MODIFIED:20250818T213148Z
UID:140959-1757529000-1757536200@calvarychristian.church
SUMMARY:Armor of God (Women)
DESCRIPTION:The group will be focusing on God’s truths about defending and being prepared to defeat the enemy.
URL:https://calvarychristian.church/event/armor-of-god-women/2025-09-10/
ATTACH;FMTTYPE=image/jpeg:https://calvarychristian.church/wp-content/uploads/2024/01/933A4976.jpg
END:VEVENT
BEGIN:VEVENT
DTSTART;TZID=America/New_York:20250910T184500
DTEND;TZID=America/New_York:20250910T201500
DTSTAMP:20260421T093837
CREATED:20250818T213636Z
LAST-MODIFIED:20250818T213636Z
UID:140969-1757529900-1757535300@calvarychristian.church
SUMMARY:Hamilton Connect Group (women)
DESCRIPTION:Join us for this encouraging study as we journey through Messy People by Jennifer Cowart. We’ll explore how God used imperfect\, broken people in the Bible to fulfill His perfect plans—and how He can do the same in our lives. Each week includes engaging discussion\, heartfelt worship\, and meaningful fellowship.\n\nClick here to purchase group material. 
URL:https://calvarychristian.church/event/hamilton-connect-group-women-2/2025-09-10/
ATTACH;FMTTYPE=image/jpeg:https://calvarychristian.church/wp-content/uploads/2024/01/933A4976.jpg
END:VEVENT
BEGIN:VEVENT
DTSTART;TZID=America/New_York:20250911T184500
DTEND;TZID=America/New_York:20250911T203000
DTSTAMP:20260421T093837
CREATED:20250818T205555Z
LAST-MODIFIED:20250818T205555Z
UID:140899-1757616300-1757622600@calvarychristian.church
SUMMARY:Women of Valor
DESCRIPTION:
URL:https://calvarychristian.church/event/women-of-valor-2/2025-09-11/
ATTACH;FMTTYPE=image/jpeg:https://calvarychristian.church/wp-content/uploads/2024/01/933A4976.jpg
END:VEVENT
BEGIN:VEVENT
DTSTART;TZID=America/New_York:20250911T190000
DTEND;TZID=America/New_York:20250911T203000
DTSTAMP:20260421T093837
CREATED:20250818T201423Z
LAST-MODIFIED:20250818T201423Z
UID:140850-1757617200-1757622600@calvarychristian.church
SUMMARY:Dibb’s Bible Study
DESCRIPTION:This is a group that is passionate to study God’s Word\, get to know Him better and be challenged and helped in applying His Word to life. This fall we will be studying 2 Peter and Jude.
URL:https://calvarychristian.church/event/dibbs-bible-study-2/2025-09-11/
ATTACH;FMTTYPE=image/jpeg:https://calvarychristian.church/wp-content/uploads/2024/01/933A4976.jpg
END:VEVENT
BEGIN:VEVENT
DTSTART;TZID=America/New_York:20250914T180000
DTEND;TZID=America/New_York:20250914T193000
DTSTAMP:20260421T093837
CREATED:20250818T214959Z
LAST-MODIFIED:20250818T214959Z
UID:140982-1757872800-1757878200@calvarychristian.church
SUMMARY:Book of Judges (Women)
DESCRIPTION:We are a group hungry for more of God and spiritual growth as we fellowship together.
URL:https://calvarychristian.church/event/book-of-judges-women/2025-09-14/
ATTACH;FMTTYPE=image/jpeg:https://calvarychristian.church/wp-content/uploads/2024/01/933A4976.jpg
END:VEVENT
BEGIN:VEVENT
DTSTART;TZID=America/New_York:20250916T184500
DTEND;TZID=America/New_York:20250916T200000
DTSTAMP:20260421T093837
CREATED:20250818T215938Z
LAST-MODIFIED:20250818T215938Z
UID:140995-1758048300-1758052800@calvarychristian.church
SUMMARY:Discovery Bible Study
DESCRIPTION:
URL:https://calvarychristian.church/event/discovery-bible-study/2025-09-16/
ATTACH;FMTTYPE=image/jpeg:https://calvarychristian.church/wp-content/uploads/2024/01/933A4976.jpg
END:VEVENT
BEGIN:VEVENT
DTSTART;TZID=America/New_York:20250916T190000
DTEND;TZID=America/New_York:20250916T203000
DTSTAMP:20260421T093837
CREATED:20250818T202527Z
LAST-MODIFIED:20250818T202527Z
UID:140863-1758049200-1758054600@calvarychristian.church
SUMMARY:Haverhill Connect Group for Women
DESCRIPTION:Come join a Women’s connection group in Haverhill where we will come together bi-weekly to build relationships with and minister to one another and learn more about what God’s word says about the issues we face as wives\, mothers\, and women. \nPlease note: this group meets on the first and third Tuesday of each month. \nClick here to order the participant’s guide.
URL:https://calvarychristian.church/event/haverhill-connect-group-for-women-2/
ATTACH;FMTTYPE=image/jpeg:https://calvarychristian.church/wp-content/uploads/2024/01/933A4976.jpg
END:VEVENT
BEGIN:VEVENT
DTSTART;TZID=America/New_York:20250917T190000
DTEND;TZID=America/New_York:20250917T203000
DTSTAMP:20260421T093837
CREATED:20250818T212217Z
LAST-MODIFIED:20250818T212217Z
UID:140936-1758135600-1758141000@calvarychristian.church
SUMMARY:Exploring the Old Testament
DESCRIPTION:Join us for a nine-week journey through the Old Testament—real stories\, real people\, and a God who keeps His promises. Along the way\, you’ll see how it all points to Jesus\, long before His birth. It’s a chance to grow\, reflect\, and see Scripture come alive in a new way.\nClick here for the class material. 
URL:https://calvarychristian.church/event/exploring-the-old-testament-3/2025-09-17/
ATTACH;FMTTYPE=image/jpeg:https://calvarychristian.church/wp-content/uploads/2024/01/933A4976.jpg
END:VEVENT
BEGIN:VEVENT
DTSTART;TZID=America/New_York:20250918T190000
DTEND;TZID=America/New_York:20250918T203000
DTSTAMP:20260421T093837
CREATED:20250818T203004Z
LAST-MODIFIED:20250818T203004Z
UID:140864-1758222000-1758227400@calvarychristian.church
SUMMARY:Lynnfield Connect Group
DESCRIPTION:Join our Young Marrieds small group as we delve into “Marriage: 6 Gospel Commitments Every Couple Needs to Make.” Strengthen your relationship through biblical principles\, meaningful discussions\, and practical applications. Let’s grow together in love and faith\, building a Christ-centered marriage that thrives. All young couples are welcome!
URL:https://calvarychristian.church/event/lynnfield-connect-group-2/2025-09-18/
ATTACH;FMTTYPE=image/jpeg:https://calvarychristian.church/wp-content/uploads/2024/01/933A4976.jpg
END:VEVENT
BEGIN:VEVENT
DTSTART;TZID=America/New_York:20250919T193000
DTEND;TZID=America/New_York:20250919T210000
DTSTAMP:20260421T093837
CREATED:20250818T205106Z
LAST-MODIFIED:20250818T205106Z
UID:140888-1758310200-1758315600@calvarychristian.church
SUMMARY:Online Connect Group (Andrade)
DESCRIPTION:This connect group is an online Bible study. Currently we are working through the book of Matthew.
URL:https://calvarychristian.church/event/online-connect-group-andrade-3/2025-09-19/
ATTACH;FMTTYPE=image/jpeg:https://calvarychristian.church/wp-content/uploads/2024/01/933A4976.jpg
END:VEVENT
BEGIN:VEVENT
DTSTART;TZID=America/New_York:20250920T093000
DTEND;TZID=America/New_York:20250920T113000
DTSTAMP:20260421T093837
CREATED:20250827T155230Z
LAST-MODIFIED:20250827T155230Z
UID:141075-1758360600-1758367800@calvarychristian.church
SUMMARY:Walk and Talk
DESCRIPTION:A community group for those who enjoy walking the Danvers Rail Trail. We will meet in the parking lot at 9:30 am and enjoy a brisk walk together for 1.5-2 hours. \nThe trail is a wide\, graveled and well-maintained level trail that we will be sharing with bicycles\, strollers\, runners and pups. \nFor the purposes of our group we ask that small children and pets be left in someone’s care while we commune with nature and God together. \nWe will gather in the parking lot and plan to head on to the trail promptly at 9:30. Please be on time and prepared with proper supportive footwear. \nYou are encouraged to bring water and a snack; also sunscreen and bug spray if you choose. Dress in layers if you choose. \nWe plan to gather every other Saturday with CCC’s calendar a consideration. Weather conditions will be monitored as close to the event as possible. \nSO let’s get this adventure started on Saturday 9/20 at 9:30 in Danvers\, sharing the outdoors\, moving our bodies\, and enjoying God’s creation as we pray along the way. \nTopsfield has a coffee shop we can stop at once we head in that direction. There are no bathroom facilities on the trail so plan accordingly. \nA good address closest to the parking area at the Danvers trailhead is: 230 Boston Street in Topsfield.
URL:https://calvarychristian.church/event/walk-and-talk/
ATTACH;FMTTYPE=image/jpeg:https://calvarychristian.church/wp-content/uploads/2024/01/933A4976.jpg
END:VEVENT
BEGIN:VEVENT
DTSTART;TZID=America/New_York:20250921T190000
DTEND;TZID=America/New_York:20250921T203000
DTSTAMP:20260421T093837
CREATED:20250818T202054Z
LAST-MODIFIED:20250818T202054Z
UID:140862-1758481200-1758486600@calvarychristian.church
SUMMARY:Georgetown Connect Group – Ladies Only
DESCRIPTION:This is a group for ladies to grow and fellowship together. We will be meeting on the first and third Mondays of each month in Georgetown. Please sign up below for specific details.
URL:https://calvarychristian.church/event/georgetown-connect-group-ladies-only-3/
ATTACH;FMTTYPE=image/jpeg:https://calvarychristian.church/wp-content/uploads/2024/01/933A4976.jpg
END:VEVENT
BEGIN:VEVENT
DTSTART;TZID=America/New_York:20251020T070000
DTEND;TZID=America/New_York:20251020T070000
DTSTAMP:20260421T093837
CREATED:20240530T184323Z
LAST-MODIFIED:20240530T184323Z
UID:140121-1760943600-1760943600@calvarychristian.church
SUMMARY:Daily Devotional Online
DESCRIPTION:Be a part of our daily devotions online through Zoom. Our pastoral staff will be hosting daily devotionals for our church family Monday thru Saturday 7:00 am – 7:30 am.  To receive the Zoom link\, please pre-register at calvary.link/zoom.
URL:https://calvarychristian.church/event/daily-devotional-online-2025-10-20/
LOCATION:Online
ATTACH;FMTTYPE=image/jpeg:https://calvarychristian.church/wp-content/uploads/2024/01/933A4976.jpg
END:VEVENT
BEGIN:VEVENT
DTSTART;TZID=America/New_York:20251020T070000
DTEND;TZID=America/New_York:20251020T193000
DTSTAMP:20260421T093837
CREATED:20240719T171738Z
LAST-MODIFIED:20240719T171738Z
UID:140120-1760943600-1760988600@calvarychristian.church
SUMMARY:Daily Devotional (Online Only)
DESCRIPTION:Daily Devotional | Monday-Saturday  | 7:00-7:30am | Online Only \nIf you would like to join this group online\, please register here.
URL:https://calvarychristian.church/event/daily-devotional-online-only-2025-10-20/
LOCATION:Online
ATTACH;FMTTYPE=image/jpeg:https://calvarychristian.church/wp-content/uploads/2024/01/933A4976.jpg
END:VEVENT
BEGIN:VEVENT
DTSTART;TZID=America/New_York:20251020T184500
DTEND;TZID=America/New_York:20251020T203000
DTSTAMP:20260421T093837
CREATED:20250818T204421Z
LAST-MODIFIED:20250818T204421Z
UID:140885-1760985900-1760992200@calvarychristian.church
SUMMARY:Men of Valor
DESCRIPTION:Men of Valor is a discipleship journey that equips men to walk with Christ\, lead with integrity\, and serve with courage. In small groups of accountability and support\, men grow in faith\, character\, and leadership—becoming the husbands\, fathers\, and leaders God has called them to be
URL:https://calvarychristian.church/event/men-of-valor-2/2025-10-20/
ATTACH;FMTTYPE=image/jpeg:https://calvarychristian.church/wp-content/uploads/2024/01/933A4976.jpg
END:VEVENT
BEGIN:VEVENT
DTSTART;TZID=America/New_York:20251020T190000
DTEND;TZID=America/New_York:20251020T203000
DTSTAMP:20260421T093837
CREATED:20250818T211406Z
LAST-MODIFIED:20250818T211406Z
UID:140933-1760986800-1760992200@calvarychristian.church
SUMMARY:Woman’s Bible Study
DESCRIPTION:Join us for a weekly Women’s Bible Study where we discover God’s truth\, grow in spiritual disciplines\, and learn to live out our faith. Together\, we’ll explore Scripture\, strengthen our walk with Christ\, and encourage one another to share His love and wisdom with others.
URL:https://calvarychristian.church/event/womans-bible-study/2025-10-20/
ATTACH;FMTTYPE=image/jpeg:https://calvarychristian.church/wp-content/uploads/2024/01/933A4976.jpg
END:VEVENT
BEGIN:VEVENT
DTSTART;TZID=America/New_York:20251020T190000
DTEND;TZID=America/New_York:20251020T210000
DTSTAMP:20260421T093837
CREATED:20240709T144204Z
LAST-MODIFIED:20240709T144204Z
UID:140119-1760986800-1760994000@calvarychristian.church
SUMMARY:Men's Prayer
DESCRIPTION:Gentlemen\, join us for an evening of prayer. If you would like to join this prayer group online\, please register here.
URL:https://calvarychristian.church/event/mens-prayer-2025-10-20/
LOCATION:101 Prayer Chapel
CATEGORIES:Men's Ministry,Prayer,Prayer Ministries
ATTACH;FMTTYPE=image/jpeg:https://calvarychristian.church/wp-content/uploads/2024/01/933A4976.jpg
END:VEVENT
BEGIN:VEVENT
DTSTART;TZID=America/New_York:20251021T070000
DTEND;TZID=America/New_York:20251021T070000
DTSTAMP:20260421T093837
CREATED:20240530T184323Z
LAST-MODIFIED:20240530T184323Z
UID:140164-1761030000-1761030000@calvarychristian.church
SUMMARY:Daily Devotional Online
DESCRIPTION:Be a part of our daily devotions online through Zoom. Our pastoral staff will be hosting daily devotionals for our church family Monday thru Saturday 7:00 am – 7:30 am.  To receive the Zoom link\, please pre-register at calvary.link/zoom.
URL:https://calvarychristian.church/event/daily-devotional-online-2025-10-21/
LOCATION:Online
ATTACH;FMTTYPE=image/jpeg:https://calvarychristian.church/wp-content/uploads/2024/01/933A4976.jpg
END:VEVENT
BEGIN:VEVENT
DTSTART;TZID=America/New_York:20251021T070000
DTEND;TZID=America/New_York:20251021T193000
DTSTAMP:20260421T093837
CREATED:20240719T171738Z
LAST-MODIFIED:20240719T171738Z
UID:140163-1761030000-1761075000@calvarychristian.church
SUMMARY:Daily Devotional (Online Only)
DESCRIPTION:Daily Devotional | Monday-Saturday  | 7:00-7:30am | Online Only \nIf you would like to join this group online\, please register here.
URL:https://calvarychristian.church/event/daily-devotional-online-only-2025-10-21/
LOCATION:Online
ATTACH;FMTTYPE=image/jpeg:https://calvarychristian.church/wp-content/uploads/2024/01/933A4976.jpg
END:VEVENT
BEGIN:VEVENT
DTSTART;TZID=America/New_York:20251021T184500
DTEND;TZID=America/New_York:20251021T200000
DTSTAMP:20260421T093837
CREATED:20250818T215938Z
LAST-MODIFIED:20250818T215938Z
UID:141000-1761072300-1761076800@calvarychristian.church
SUMMARY:Discovery Bible Study
DESCRIPTION:
URL:https://calvarychristian.church/event/discovery-bible-study/2025-10-21/
ATTACH;FMTTYPE=image/jpeg:https://calvarychristian.church/wp-content/uploads/2024/01/933A4976.jpg
END:VEVENT
BEGIN:VEVENT
DTSTART;TZID=America/New_York:20251021T190000
DTEND;TZID=America/New_York:20251021T203000
DTSTAMP:20260421T093837
CREATED:20240719T164552Z
LAST-MODIFIED:20240719T164552Z
UID:140162-1761073200-1761078600@calvarychristian.church
SUMMARY:Ladies Prayer
DESCRIPTION:Ladies’ Prayer | Tuesdays | 7:00-8:30pm | Chapel & Online
URL:https://calvarychristian.church/event/ladies-prayer-2025-10-21/
CATEGORIES:Prayer
ATTACH;FMTTYPE=image/jpeg:https://calvarychristian.church/wp-content/uploads/2024/01/933A4976.jpg
END:VEVENT
BEGIN:VEVENT
DTSTART;TZID=America/New_York:20251021T190000
DTEND;TZID=America/New_York:20251021T203000
DTSTAMP:20260421T093837
CREATED:20250818T212638Z
LAST-MODIFIED:20250818T212638Z
UID:140952-1761073200-1761078600@calvarychristian.church
SUMMARY:McNair Group Study – Revelation
DESCRIPTION:What do you really know about the book of Revelation and the end times? The concluding book of the New Testament can seem a mystery\, complex\, full of unfamiliar imagery and numerous allusions to the rest of the Bible. Yet\, the book is not difficult\, it is actual sensible.
URL:https://calvarychristian.church/event/mcnair-group-study-revelation/2025-10-21/
ATTACH;FMTTYPE=image/jpeg:https://calvarychristian.church/wp-content/uploads/2024/01/933A4976.jpg
END:VEVENT
END:VCALENDAR