BEGIN:VCALENDAR
VERSION:2.0
PRODID:-//Calvary Christian Church - ECPv6.6.4.2//NONSGML v1.0//EN
CALSCALE:GREGORIAN
METHOD:PUBLISH
X-WR-CALNAME:Calvary Christian Church
X-ORIGINAL-URL:https://calvarychristian.church
X-WR-CALDESC:Events for Calvary Christian Church
REFRESH-INTERVAL;VALUE=DURATION:PT1H
X-Robots-Tag:noindex
X-PUBLISHED-TTL:PT1H
BEGIN:VTIMEZONE
TZID:America/New_York
BEGIN:DAYLIGHT
TZOFFSETFROM:-0500
TZOFFSETTO:-0400
TZNAME:EDT
DTSTART:20260308T070000
END:DAYLIGHT
BEGIN:STANDARD
TZOFFSETFROM:-0400
TZOFFSETTO:-0500
TZNAME:EST
DTSTART:20261101T060000
END:STANDARD
END:VTIMEZONE
BEGIN:VEVENT
DTSTART;TZID=America/New_York:20260514T190000
DTEND;TZID=America/New_York:20260514T203000
DTSTAMP:20260421T093716
CREATED:20240719T170601Z
LAST-MODIFIED:20240719T170601Z
UID:141614-1778785200-1778790600@calvarychristian.church
SUMMARY:Mission Prayer
DESCRIPTION:Mission Prayer | Thursdays | 7:00-8:30pm | Chapel & Online
URL:https://calvarychristian.church/event/mission-prayer-2026-05-14/
CATEGORIES:Missions,Prayer,Prayer Ministries
ATTACH;FMTTYPE=image/jpeg:https://calvarychristian.church/wp-content/uploads/2024/01/933A4976.jpg
END:VEVENT
BEGIN:VEVENT
DTSTART;TZID=America/New_York:20260521T190000
DTEND;TZID=America/New_York:20260521T203000
DTSTAMP:20260421T093716
CREATED:20240719T170601Z
LAST-MODIFIED:20240719T170601Z
UID:141655-1779390000-1779395400@calvarychristian.church
SUMMARY:Mission Prayer
DESCRIPTION:Mission Prayer | Thursdays | 7:00-8:30pm | Chapel & Online
URL:https://calvarychristian.church/event/mission-prayer-2026-05-21/
CATEGORIES:Missions,Prayer,Prayer Ministries
ATTACH;FMTTYPE=image/jpeg:https://calvarychristian.church/wp-content/uploads/2024/01/933A4976.jpg
END:VEVENT
BEGIN:VEVENT
DTSTART;TZID=America/New_York:20260528T190000
DTEND;TZID=America/New_York:20260528T203000
DTSTAMP:20260421T093716
CREATED:20240719T170601Z
LAST-MODIFIED:20240719T170601Z
UID:141697-1779994800-1780000200@calvarychristian.church
SUMMARY:Mission Prayer
DESCRIPTION:Mission Prayer | Thursdays | 7:00-8:30pm | Chapel & Online
URL:https://calvarychristian.church/event/mission-prayer-2026-05-28/
CATEGORIES:Missions,Prayer,Prayer Ministries
ATTACH;FMTTYPE=image/jpeg:https://calvarychristian.church/wp-content/uploads/2024/01/933A4976.jpg
END:VEVENT
BEGIN:VEVENT
DTSTART;TZID=America/New_York:20260604T190000
DTEND;TZID=America/New_York:20260604T203000
DTSTAMP:20260421T093716
CREATED:20240719T170601Z
LAST-MODIFIED:20240719T170601Z
UID:142090-1780599600-1780605000@calvarychristian.church
SUMMARY:Mission Prayer
DESCRIPTION:Mission Prayer | Thursdays | 7:00-8:30pm | Chapel & Online
URL:https://calvarychristian.church/event/mission-prayer-2026-06-04/
CATEGORIES:Missions,Prayer,Prayer Ministries
ATTACH;FMTTYPE=image/jpeg:https://calvarychristian.church/wp-content/uploads/2024/01/933A4976.jpg
END:VEVENT
BEGIN:VEVENT
DTSTART;TZID=America/New_York:20260611T190000
DTEND;TZID=America/New_York:20260611T203000
DTSTAMP:20260421T093716
CREATED:20240719T170601Z
LAST-MODIFIED:20240719T170601Z
UID:142143-1781204400-1781209800@calvarychristian.church
SUMMARY:Mission Prayer
DESCRIPTION:Mission Prayer | Thursdays | 7:00-8:30pm | Chapel & Online
URL:https://calvarychristian.church/event/mission-prayer-2026-06-11/
CATEGORIES:Missions,Prayer,Prayer Ministries
ATTACH;FMTTYPE=image/jpeg:https://calvarychristian.church/wp-content/uploads/2024/01/933A4976.jpg
END:VEVENT
BEGIN:VEVENT
DTSTART;TZID=America/New_York:20260618T190000
DTEND;TZID=America/New_York:20260618T203000
DTSTAMP:20260421T093716
CREATED:20240719T170601Z
LAST-MODIFIED:20240719T170601Z
UID:142196-1781809200-1781814600@calvarychristian.church
SUMMARY:Mission Prayer
DESCRIPTION:Mission Prayer | Thursdays | 7:00-8:30pm | Chapel & Online
URL:https://calvarychristian.church/event/mission-prayer-2026-06-18/
CATEGORIES:Missions,Prayer,Prayer Ministries
ATTACH;FMTTYPE=image/jpeg:https://calvarychristian.church/wp-content/uploads/2024/01/933A4976.jpg
END:VEVENT
BEGIN:VEVENT
DTSTART;TZID=America/New_York:20260625T190000
DTEND;TZID=America/New_York:20260625T203000
DTSTAMP:20260421T093716
CREATED:20240719T170601Z
LAST-MODIFIED:20240719T170601Z
UID:142248-1782414000-1782419400@calvarychristian.church
SUMMARY:Mission Prayer
DESCRIPTION:Mission Prayer | Thursdays | 7:00-8:30pm | Chapel & Online
URL:https://calvarychristian.church/event/mission-prayer-2026-06-25/
CATEGORIES:Missions,Prayer,Prayer Ministries
ATTACH;FMTTYPE=image/jpeg:https://calvarychristian.church/wp-content/uploads/2024/01/933A4976.jpg
END:VEVENT
BEGIN:VEVENT
DTSTART;TZID=America/New_York:20260702T190000
DTEND;TZID=America/New_York:20260702T203000
DTSTAMP:20260421T093716
CREATED:20240719T170601Z
LAST-MODIFIED:20240719T170601Z
UID:142289-1783018800-1783024200@calvarychristian.church
SUMMARY:Mission Prayer
DESCRIPTION:Mission Prayer | Thursdays | 7:00-8:30pm | Chapel & Online
URL:https://calvarychristian.church/event/mission-prayer-2026-07-02/
CATEGORIES:Missions,Prayer,Prayer Ministries
ATTACH;FMTTYPE=image/jpeg:https://calvarychristian.church/wp-content/uploads/2024/01/933A4976.jpg
END:VEVENT
BEGIN:VEVENT
DTSTART;TZID=America/New_York:20260709T190000
DTEND;TZID=America/New_York:20260709T203000
DTSTAMP:20260421T093716
CREATED:20240719T170601Z
LAST-MODIFIED:20240719T170601Z
UID:142334-1783623600-1783629000@calvarychristian.church
SUMMARY:Mission Prayer
DESCRIPTION:Mission Prayer | Thursdays | 7:00-8:30pm | Chapel & Online
URL:https://calvarychristian.church/event/mission-prayer-2026-07-09/
CATEGORIES:Missions,Prayer,Prayer Ministries
ATTACH;FMTTYPE=image/jpeg:https://calvarychristian.church/wp-content/uploads/2024/01/933A4976.jpg
END:VEVENT
BEGIN:VEVENT
DTSTART;TZID=America/New_York:20260716T190000
DTEND;TZID=America/New_York:20260716T203000
DTSTAMP:20260421T093716
CREATED:20240719T170601Z
LAST-MODIFIED:20240719T170601Z
UID:142377-1784228400-1784233800@calvarychristian.church
SUMMARY:Mission Prayer
DESCRIPTION:Mission Prayer | Thursdays | 7:00-8:30pm | Chapel & Online
URL:https://calvarychristian.church/event/mission-prayer-2026-07-16/
CATEGORIES:Missions,Prayer,Prayer Ministries
ATTACH;FMTTYPE=image/jpeg:https://calvarychristian.church/wp-content/uploads/2024/01/933A4976.jpg
END:VEVENT
BEGIN:VEVENT
DTSTART;TZID=America/New_York:20260723T190000
DTEND;TZID=America/New_York:20260723T203000
DTSTAMP:20260421T093716
CREATED:20240719T170601Z
LAST-MODIFIED:20240719T170601Z
UID:142416-1784833200-1784838600@calvarychristian.church
SUMMARY:Mission Prayer
DESCRIPTION:Mission Prayer | Thursdays | 7:00-8:30pm | Chapel & Online
URL:https://calvarychristian.church/event/mission-prayer-2026-07-23/
CATEGORIES:Missions,Prayer,Prayer Ministries
ATTACH;FMTTYPE=image/jpeg:https://calvarychristian.church/wp-content/uploads/2024/01/933A4976.jpg
END:VEVENT
BEGIN:VEVENT
DTSTART;TZID=America/New_York:20260730T190000
DTEND;TZID=America/New_York:20260730T203000
DTSTAMP:20260421T093716
CREATED:20240719T170601Z
LAST-MODIFIED:20240719T170601Z
UID:142454-1785438000-1785443400@calvarychristian.church
SUMMARY:Mission Prayer
DESCRIPTION:Mission Prayer | Thursdays | 7:00-8:30pm | Chapel & Online
URL:https://calvarychristian.church/event/mission-prayer-2026-07-30/
CATEGORIES:Missions,Prayer,Prayer Ministries
ATTACH;FMTTYPE=image/jpeg:https://calvarychristian.church/wp-content/uploads/2024/01/933A4976.jpg
END:VEVENT
BEGIN:VEVENT
DTSTART;TZID=America/New_York:20260806T190000
DTEND;TZID=America/New_York:20260806T203000
DTSTAMP:20260421T093716
CREATED:20240719T170601Z
LAST-MODIFIED:20240719T170601Z
UID:142496-1786042800-1786048200@calvarychristian.church
SUMMARY:Mission Prayer
DESCRIPTION:Mission Prayer | Thursdays | 7:00-8:30pm | Chapel & Online
URL:https://calvarychristian.church/event/mission-prayer-2026-08-06/
CATEGORIES:Missions,Prayer,Prayer Ministries
ATTACH;FMTTYPE=image/jpeg:https://calvarychristian.church/wp-content/uploads/2024/01/933A4976.jpg
END:VEVENT
BEGIN:VEVENT
DTSTART;TZID=America/New_York:20260813T190000
DTEND;TZID=America/New_York:20260813T203000
DTSTAMP:20260421T093716
CREATED:20240719T170601Z
LAST-MODIFIED:20240719T170601Z
UID:142536-1786647600-1786653000@calvarychristian.church
SUMMARY:Mission Prayer
DESCRIPTION:Mission Prayer | Thursdays | 7:00-8:30pm | Chapel & Online
URL:https://calvarychristian.church/event/mission-prayer-2026-08-13/
CATEGORIES:Missions,Prayer,Prayer Ministries
ATTACH;FMTTYPE=image/jpeg:https://calvarychristian.church/wp-content/uploads/2024/01/933A4976.jpg
END:VEVENT
BEGIN:VEVENT
DTSTART;TZID=America/New_York:20260820T190000
DTEND;TZID=America/New_York:20260820T203000
DTSTAMP:20260421T093716
CREATED:20240719T170601Z
LAST-MODIFIED:20240719T170601Z
UID:142591-1787252400-1787257800@calvarychristian.church
SUMMARY:Mission Prayer
DESCRIPTION:Mission Prayer | Thursdays | 7:00-8:30pm | Chapel & Online
URL:https://calvarychristian.church/event/mission-prayer-2026-08-20/
CATEGORIES:Missions,Prayer,Prayer Ministries
ATTACH;FMTTYPE=image/jpeg:https://calvarychristian.church/wp-content/uploads/2024/01/933A4976.jpg
END:VEVENT
BEGIN:VEVENT
DTSTART;TZID=America/New_York:20260827T190000
DTEND;TZID=America/New_York:20260827T203000
DTSTAMP:20260421T093716
CREATED:20240719T170601Z
LAST-MODIFIED:20240719T170601Z
UID:142630-1787857200-1787862600@calvarychristian.church
SUMMARY:Mission Prayer
DESCRIPTION:Mission Prayer | Thursdays | 7:00-8:30pm | Chapel & Online
URL:https://calvarychristian.church/event/mission-prayer-2026-08-27/
CATEGORIES:Missions,Prayer,Prayer Ministries
ATTACH;FMTTYPE=image/jpeg:https://calvarychristian.church/wp-content/uploads/2024/01/933A4976.jpg
END:VEVENT
BEGIN:VEVENT
DTSTART;TZID=America/New_York:20260903T190000
DTEND;TZID=America/New_York:20260903T203000
DTSTAMP:20260421T093716
CREATED:20240719T170601Z
LAST-MODIFIED:20240719T170601Z
UID:142663-1788462000-1788467400@calvarychristian.church
SUMMARY:Mission Prayer
DESCRIPTION:Mission Prayer | Thursdays | 7:00-8:30pm | Chapel & Online
URL:https://calvarychristian.church/event/mission-prayer-2026-09-03/
CATEGORIES:Missions,Prayer,Prayer Ministries
ATTACH;FMTTYPE=image/jpeg:https://calvarychristian.church/wp-content/uploads/2024/01/933A4976.jpg
END:VEVENT
BEGIN:VEVENT
DTSTART;TZID=America/New_York:20260910T190000
DTEND;TZID=America/New_York:20260910T203000
DTSTAMP:20260421T093716
CREATED:20240719T170601Z
LAST-MODIFIED:20240719T170601Z
UID:142701-1789066800-1789072200@calvarychristian.church
SUMMARY:Mission Prayer
DESCRIPTION:Mission Prayer | Thursdays | 7:00-8:30pm | Chapel & Online
URL:https://calvarychristian.church/event/mission-prayer-2026-09-10/
CATEGORIES:Missions,Prayer,Prayer Ministries
ATTACH;FMTTYPE=image/jpeg:https://calvarychristian.church/wp-content/uploads/2024/01/933A4976.jpg
END:VEVENT
BEGIN:VEVENT
DTSTART;TZID=America/New_York:20260917T190000
DTEND;TZID=America/New_York:20260917T203000
DTSTAMP:20260421T093716
CREATED:20240719T170601Z
LAST-MODIFIED:20240719T170601Z
UID:142769-1789671600-1789677000@calvarychristian.church
SUMMARY:Mission Prayer
DESCRIPTION:Mission Prayer | Thursdays | 7:00-8:30pm | Chapel & Online
URL:https://calvarychristian.church/event/mission-prayer-2026-09-17/
CATEGORIES:Missions,Prayer,Prayer Ministries
ATTACH;FMTTYPE=image/jpeg:https://calvarychristian.church/wp-content/uploads/2024/01/933A4976.jpg
END:VEVENT
END:VCALENDAR