BEGIN:VCALENDAR
VERSION:2.0
PRODID:-//Calvary Christian Church - ECPv6.6.4.2//NONSGML v1.0//EN
CALSCALE:GREGORIAN
METHOD:PUBLISH
X-ORIGINAL-URL:https://calvarychristian.church
X-WR-CALDESC:Events for Calvary Christian Church
REFRESH-INTERVAL;VALUE=DURATION:PT1H
X-Robots-Tag:noindex
X-PUBLISHED-TTL:PT1H
BEGIN:VTIMEZONE
TZID:America/New_York
BEGIN:DAYLIGHT
TZOFFSETFROM:-0500
TZOFFSETTO:-0400
TZNAME:EDT
DTSTART:20260308T070000
END:DAYLIGHT
BEGIN:STANDARD
TZOFFSETFROM:-0400
TZOFFSETTO:-0500
TZNAME:EST
DTSTART:20261101T060000
END:STANDARD
END:VTIMEZONE
BEGIN:VEVENT
DTSTART;TZID=America/New_York:20260311T070000
DTEND;TZID=America/New_York:20260311T070000
DTSTAMP:20260424T082503
CREATED:20240530T184323Z
LAST-MODIFIED:20240530T184323Z
UID:141185-1773212400-1773212400@calvarychristian.church
SUMMARY:Daily Devotional Online
DESCRIPTION:Be a part of our daily devotions online through Zoom. Our pastoral staff will be hosting daily devotionals for our church family Monday thru Saturday 7:00 am – 7:30 am.  To receive the Zoom link\, please pre-register at calvary.link/zoom.
URL:https://calvarychristian.church/event/daily-devotional-online-2026-03-11/
LOCATION:Online
ATTACH;FMTTYPE=image/jpeg:https://calvarychristian.church/wp-content/uploads/2024/01/933A4976.jpg
END:VEVENT
BEGIN:VEVENT
DTSTART;TZID=America/New_York:20260311T070000
DTEND;TZID=America/New_York:20260311T193000
DTSTAMP:20260424T082503
CREATED:20240719T171738Z
LAST-MODIFIED:20240719T171738Z
UID:141184-1773212400-1773257400@calvarychristian.church
SUMMARY:Daily Devotional (Online Only)
DESCRIPTION:Daily Devotional | Monday-Saturday  | 7:00-7:30am | Online Only \nIf you would like to join this group online\, please register here.
URL:https://calvarychristian.church/event/daily-devotional-online-only-2026-03-11/
LOCATION:Online
ATTACH;FMTTYPE=image/jpeg:https://calvarychristian.church/wp-content/uploads/2024/01/933A4976.jpg
END:VEVENT
BEGIN:VEVENT
DTSTART;TZID=America/New_York:20260311T103000
DTEND;TZID=America/New_York:20260311T120000
DTSTAMP:20260424T082503
CREATED:20250115T012525Z
LAST-MODIFIED:20250115T012525Z
UID:141183-1773225000-1773230400@calvarychristian.church
SUMMARY:Flourish Senior Ministries
DESCRIPTION:Come discover meaningful discussions\, fellowship\, and encouragement. Join us as we Flourish together in this exciting new chapter of life. \nChoose Your Day:\nSundays at 10:30 AM\nWednesdays at 10:30 AM (repeat of the Sunday class) \nLocation: Prayer Chapel \nQuestions? Contact Pastor Tim & Jacquie Schmidt. We can’t wait to see you there!
URL:https://calvarychristian.church/event/flourish-senior-ministries-2026-03-11/
CATEGORIES:Flourish Senior Ministry
ATTACH;FMTTYPE=image/jpeg:https://calvarychristian.church/wp-content/uploads/2024/01/933A4976.jpg
END:VEVENT
BEGIN:VEVENT
DTSTART;TZID=America/New_York:20260311T190000
DTEND;TZID=America/New_York:20260311T203000
DTSTAMP:20260424T082503
CREATED:20240719T164804Z
LAST-MODIFIED:20240719T164804Z
UID:141181-1773255600-1773261000@calvarychristian.church
SUMMARY:Hispanic Prayer
DESCRIPTION:Hispanic Prayer | Wednesdays | 7:00-8:00pm | Chapel
URL:https://calvarychristian.church/event/hispanic-prayer-2026-03-11/
LOCATION:101 Prayer Chapel
CATEGORIES:Hispanic,Prayer
ATTACH;FMTTYPE=image/jpeg:https://calvarychristian.church/wp-content/uploads/2024/01/933A4976.jpg
END:VEVENT
BEGIN:VEVENT
DTSTART;TZID=America/New_York:20260311T190000
DTEND;TZID=America/New_York:20260311T210000
DTSTAMP:20260424T082503
CREATED:20240719T183331Z
LAST-MODIFIED:20240719T183331Z
UID:141182-1773255600-1773262800@calvarychristian.church
SUMMARY:Young Adult DIG
DESCRIPTION:Deeper in God (DIG) is a Young Adult bible study focused on growing deeper in God’s word and building strong community. If you’re 18-35 and looking for a great community to connect to and learn more about the bible\, we’d love to see you every Wednesday at 7:00PM in the MPR. Please direct questions and inquiries to Pastor Clark.
URL:https://calvarychristian.church/event/young-adult-dig-2026-03-11/
ATTACH;FMTTYPE=image/jpeg:https://calvarychristian.church/wp-content/uploads/2024/01/933A4976.jpg
END:VEVENT
END:VCALENDAR