BEGIN:VCALENDAR
VERSION:2.0
PRODID:-//Calvary Christian Church - ECPv6.6.4.2//NONSGML v1.0//EN
CALSCALE:GREGORIAN
METHOD:PUBLISH
X-ORIGINAL-URL:https://calvarychristian.church
X-WR-CALDESC:Events for Calvary Christian Church
REFRESH-INTERVAL;VALUE=DURATION:PT1H
X-Robots-Tag:noindex
X-PUBLISHED-TTL:PT1H
BEGIN:VTIMEZONE
TZID:America/New_York
BEGIN:DAYLIGHT
TZOFFSETFROM:-0500
TZOFFSETTO:-0400
TZNAME:EDT
DTSTART:20260308T070000
END:DAYLIGHT
BEGIN:STANDARD
TZOFFSETFROM:-0400
TZOFFSETTO:-0500
TZNAME:EST
DTSTART:20261101T060000
END:STANDARD
END:VTIMEZONE
BEGIN:VEVENT
DTSTART;TZID=America/New_York:20260424T193000
DTEND;TZID=America/New_York:20260424T210000
DTSTAMP:20260423T073507
CREATED:20250818T205106Z
LAST-MODIFIED:20250818T205106Z
UID:141486-1777059000-1777064400@calvarychristian.church
SUMMARY:Online Connect Group (Andrade)
DESCRIPTION:This connect group is an online Bible study. Currently we are working through the book of Matthew.
URL:https://calvarychristian.church/event/online-connect-group-andrade-3/2026-04-24/
ATTACH;FMTTYPE=image/jpeg:https://calvarychristian.church/wp-content/uploads/2024/01/933A4976.jpg
END:VEVENT
BEGIN:VEVENT
DTSTART;TZID=America/New_York:20260501T193000
DTEND;TZID=America/New_York:20260501T210000
DTSTAMP:20260423T073507
CREATED:20250818T205106Z
LAST-MODIFIED:20250818T205106Z
UID:141533-1777663800-1777669200@calvarychristian.church
SUMMARY:Online Connect Group (Andrade)
DESCRIPTION:This connect group is an online Bible study. Currently we are working through the book of Matthew.
URL:https://calvarychristian.church/event/online-connect-group-andrade-3/2026-05-01/
ATTACH;FMTTYPE=image/jpeg:https://calvarychristian.church/wp-content/uploads/2024/01/933A4976.jpg
END:VEVENT
BEGIN:VEVENT
DTSTART;TZID=America/New_York:20260508T193000
DTEND;TZID=America/New_York:20260508T210000
DTSTAMP:20260423T073507
CREATED:20250818T205106Z
LAST-MODIFIED:20250818T205106Z
UID:141580-1778268600-1778274000@calvarychristian.church
SUMMARY:Online Connect Group (Andrade)
DESCRIPTION:This connect group is an online Bible study. Currently we are working through the book of Matthew.
URL:https://calvarychristian.church/event/online-connect-group-andrade-3/2026-05-08/
ATTACH;FMTTYPE=image/jpeg:https://calvarychristian.church/wp-content/uploads/2024/01/933A4976.jpg
END:VEVENT
BEGIN:VEVENT
DTSTART;TZID=America/New_York:20260515T193000
DTEND;TZID=America/New_York:20260515T210000
DTSTAMP:20260423T073507
CREATED:20250818T205106Z
LAST-MODIFIED:20250818T205106Z
UID:141621-1778873400-1778878800@calvarychristian.church
SUMMARY:Online Connect Group (Andrade)
DESCRIPTION:This connect group is an online Bible study. Currently we are working through the book of Matthew.
URL:https://calvarychristian.church/event/online-connect-group-andrade-3/2026-05-15/
ATTACH;FMTTYPE=image/jpeg:https://calvarychristian.church/wp-content/uploads/2024/01/933A4976.jpg
END:VEVENT
BEGIN:VEVENT
DTSTART;TZID=America/New_York:20260522T193000
DTEND;TZID=America/New_York:20260522T210000
DTSTAMP:20260423T073507
CREATED:20250818T205106Z
LAST-MODIFIED:20250818T205106Z
UID:141664-1779478200-1779483600@calvarychristian.church
SUMMARY:Online Connect Group (Andrade)
DESCRIPTION:This connect group is an online Bible study. Currently we are working through the book of Matthew.
URL:https://calvarychristian.church/event/online-connect-group-andrade-3/2026-05-22/
ATTACH;FMTTYPE=image/jpeg:https://calvarychristian.church/wp-content/uploads/2024/01/933A4976.jpg
END:VEVENT
BEGIN:VEVENT
DTSTART;TZID=America/New_York:20260529T193000
DTEND;TZID=America/New_York:20260529T210000
DTSTAMP:20260423T073507
CREATED:20250818T205106Z
LAST-MODIFIED:20250818T205106Z
UID:141705-1780083000-1780088400@calvarychristian.church
SUMMARY:Online Connect Group (Andrade)
DESCRIPTION:This connect group is an online Bible study. Currently we are working through the book of Matthew.
URL:https://calvarychristian.church/event/online-connect-group-andrade-3/2026-05-29/
ATTACH;FMTTYPE=image/jpeg:https://calvarychristian.church/wp-content/uploads/2024/01/933A4976.jpg
END:VEVENT
BEGIN:VEVENT
DTSTART;TZID=America/New_York:20260605T193000
DTEND;TZID=America/New_York:20260605T210000
DTSTAMP:20260423T073507
CREATED:20250818T205106Z
LAST-MODIFIED:20250818T205106Z
UID:142098-1780687800-1780693200@calvarychristian.church
SUMMARY:Online Connect Group (Andrade)
DESCRIPTION:This connect group is an online Bible study. Currently we are working through the book of Matthew.
URL:https://calvarychristian.church/event/online-connect-group-andrade-3/2026-06-05/
ATTACH;FMTTYPE=image/jpeg:https://calvarychristian.church/wp-content/uploads/2024/01/933A4976.jpg
END:VEVENT
BEGIN:VEVENT
DTSTART;TZID=America/New_York:20260612T193000
DTEND;TZID=America/New_York:20260612T210000
DTSTAMP:20260423T073507
CREATED:20250818T205106Z
LAST-MODIFIED:20250818T205106Z
UID:142150-1781292600-1781298000@calvarychristian.church
SUMMARY:Online Connect Group (Andrade)
DESCRIPTION:This connect group is an online Bible study. Currently we are working through the book of Matthew.
URL:https://calvarychristian.church/event/online-connect-group-andrade-3/2026-06-12/
ATTACH;FMTTYPE=image/jpeg:https://calvarychristian.church/wp-content/uploads/2024/01/933A4976.jpg
END:VEVENT
BEGIN:VEVENT
DTSTART;TZID=America/New_York:20260619T193000
DTEND;TZID=America/New_York:20260619T210000
DTSTAMP:20260423T073507
CREATED:20250818T205106Z
LAST-MODIFIED:20250818T205106Z
UID:142205-1781897400-1781902800@calvarychristian.church
SUMMARY:Online Connect Group (Andrade)
DESCRIPTION:This connect group is an online Bible study. Currently we are working through the book of Matthew.
URL:https://calvarychristian.church/event/online-connect-group-andrade-3/2026-06-19/
ATTACH;FMTTYPE=image/jpeg:https://calvarychristian.church/wp-content/uploads/2024/01/933A4976.jpg
END:VEVENT
BEGIN:VEVENT
DTSTART;TZID=America/New_York:20260626T193000
DTEND;TZID=America/New_York:20260626T210000
DTSTAMP:20260423T073507
CREATED:20250818T205106Z
LAST-MODIFIED:20250818T205106Z
UID:142255-1782502200-1782507600@calvarychristian.church
SUMMARY:Online Connect Group (Andrade)
DESCRIPTION:This connect group is an online Bible study. Currently we are working through the book of Matthew.
URL:https://calvarychristian.church/event/online-connect-group-andrade-3/2026-06-26/
ATTACH;FMTTYPE=image/jpeg:https://calvarychristian.church/wp-content/uploads/2024/01/933A4976.jpg
END:VEVENT
END:VCALENDAR