BEGIN:VCALENDAR
VERSION:2.0
PRODID:-//Calvary Christian Church - ECPv6.6.4.2//NONSGML v1.0//EN
CALSCALE:GREGORIAN
METHOD:PUBLISH
X-WR-CALNAME:Calvary Christian Church
X-ORIGINAL-URL:https://calvarychristian.church
X-WR-CALDESC:Events for Calvary Christian Church
REFRESH-INTERVAL;VALUE=DURATION:PT1H
X-Robots-Tag:noindex
X-PUBLISHED-TTL:PT1H
BEGIN:VTIMEZONE
TZID:America/New_York
BEGIN:DAYLIGHT
TZOFFSETFROM:-0500
TZOFFSETTO:-0400
TZNAME:EDT
DTSTART:20250309T070000
END:DAYLIGHT
BEGIN:STANDARD
TZOFFSETFROM:-0400
TZOFFSETTO:-0500
TZNAME:EST
DTSTART:20251102T060000
END:STANDARD
END:VTIMEZONE
BEGIN:VEVENT
DTSTART;TZID=America/New_York:20251105T184500
DTEND;TZID=America/New_York:20251105T201500
DTSTAMP:20260423T074212
CREATED:20250818T213636Z
LAST-MODIFIED:20250818T213636Z
UID:140977-1762368300-1762373700@calvarychristian.church
SUMMARY:Hamilton Connect Group (women)
DESCRIPTION:Join us for this encouraging study as we journey through Messy People by Jennifer Cowart. We’ll explore how God used imperfect\, broken people in the Bible to fulfill His perfect plans—and how He can do the same in our lives. Each week includes engaging discussion\, heartfelt worship\, and meaningful fellowship.\n\nClick here to purchase group material. 
URL:https://calvarychristian.church/event/hamilton-connect-group-women-2/2025-11-05/
ATTACH;FMTTYPE=image/jpeg:https://calvarychristian.church/wp-content/uploads/2024/01/933A4976.jpg
END:VEVENT
BEGIN:VEVENT
DTSTART;TZID=America/New_York:20251029T184500
DTEND;TZID=America/New_York:20251029T201500
DTSTAMP:20260423T074212
CREATED:20250818T213636Z
LAST-MODIFIED:20250818T213636Z
UID:140976-1761763500-1761768900@calvarychristian.church
SUMMARY:Hamilton Connect Group (women)
DESCRIPTION:Join us for this encouraging study as we journey through Messy People by Jennifer Cowart. We’ll explore how God used imperfect\, broken people in the Bible to fulfill His perfect plans—and how He can do the same in our lives. Each week includes engaging discussion\, heartfelt worship\, and meaningful fellowship.\n\nClick here to purchase group material. 
URL:https://calvarychristian.church/event/hamilton-connect-group-women-2/2025-10-29/
ATTACH;FMTTYPE=image/jpeg:https://calvarychristian.church/wp-content/uploads/2024/01/933A4976.jpg
END:VEVENT
BEGIN:VEVENT
DTSTART;TZID=America/New_York:20251022T184500
DTEND;TZID=America/New_York:20251022T201500
DTSTAMP:20260423T074212
CREATED:20250818T213636Z
LAST-MODIFIED:20250818T213636Z
UID:140975-1761158700-1761164100@calvarychristian.church
SUMMARY:Hamilton Connect Group (women)
DESCRIPTION:Join us for this encouraging study as we journey through Messy People by Jennifer Cowart. We’ll explore how God used imperfect\, broken people in the Bible to fulfill His perfect plans—and how He can do the same in our lives. Each week includes engaging discussion\, heartfelt worship\, and meaningful fellowship.\n\nClick here to purchase group material. 
URL:https://calvarychristian.church/event/hamilton-connect-group-women-2/2025-10-22/
ATTACH;FMTTYPE=image/jpeg:https://calvarychristian.church/wp-content/uploads/2024/01/933A4976.jpg
END:VEVENT
BEGIN:VEVENT
DTSTART;TZID=America/New_York:20250910T184500
DTEND;TZID=America/New_York:20250910T201500
DTSTAMP:20260423T074212
CREATED:20250818T213636Z
LAST-MODIFIED:20250818T213636Z
UID:140969-1757529900-1757535300@calvarychristian.church
SUMMARY:Hamilton Connect Group (women)
DESCRIPTION:Join us for this encouraging study as we journey through Messy People by Jennifer Cowart. We’ll explore how God used imperfect\, broken people in the Bible to fulfill His perfect plans—and how He can do the same in our lives. Each week includes engaging discussion\, heartfelt worship\, and meaningful fellowship.\n\nClick here to purchase group material. 
URL:https://calvarychristian.church/event/hamilton-connect-group-women-2/2025-09-10/
ATTACH;FMTTYPE=image/jpeg:https://calvarychristian.church/wp-content/uploads/2024/01/933A4976.jpg
END:VEVENT
END:VCALENDAR